BEGIN:VCALENDAR
VERSION:2.0
PRODID:-//The Counterfeiter$ - ECPv6.7.1//NONSGML v1.0//EN
CALSCALE:GREGORIAN
METHOD:PUBLISH
X-WR-CALNAME:The Counterfeiter$
X-ORIGINAL-URL:https://www.thecounterfeitersband.com
X-WR-CALDESC:Events for The Counterfeiter$
REFRESH-INTERVAL;VALUE=DURATION:PT1H
X-Robots-Tag:noindex
X-PUBLISHED-TTL:PT1H
BEGIN:VTIMEZONE
TZID:UTC
BEGIN:STANDARD
TZOFFSETFROM:+0000
TZOFFSETTO:+0000
TZNAME:UTC
DTSTART:20220101T000000
END:STANDARD
END:VTIMEZONE
BEGIN:VEVENT
DTSTART;TZID=UTC:20220401T213000
DTEND;TZID=UTC:20220401T233000
DTSTAMP:20260419T170453
CREATED:20220325T121823Z
LAST-MODIFIED:20220325T121823Z
UID:1009-1648848600-1648855800@www.thecounterfeitersband.com
SUMMARY:SHANNON ROSE - CLIFTON
DESCRIPTION:
URL:https://www.thecounterfeitersband.com/shows/shannon-rose-clifton-4/
END:VEVENT
END:VCALENDAR