BEGIN:VCALENDAR
VERSION:2.0
PRODID:-//The Counterfeiter$ - ECPv6.7.1//NONSGML v1.0//EN
CALSCALE:GREGORIAN
METHOD:PUBLISH
X-ORIGINAL-URL:https://www.thecounterfeitersband.com
X-WR-CALDESC:Events for The Counterfeiter$
REFRESH-INTERVAL;VALUE=DURATION:PT1H
X-Robots-Tag:noindex
X-PUBLISHED-TTL:PT1H
BEGIN:VTIMEZONE
TZID:UTC
BEGIN:STANDARD
TZOFFSETFROM:+0000
TZOFFSETTO:+0000
TZNAME:UTC
DTSTART:20220101T000000
END:STANDARD
END:VTIMEZONE
BEGIN:VEVENT
DTSTART;TZID=UTC:20220401T213000
DTEND;TZID=UTC:20220401T233000
DTSTAMP:20260419T170626
CREATED:20220325T121823Z
LAST-MODIFIED:20220325T121823Z
UID:1009-1648848600-1648855800@www.thecounterfeitersband.com
SUMMARY:SHANNON ROSE - CLIFTON
DESCRIPTION:
URL:https://www.thecounterfeitersband.com/shows/shannon-rose-clifton-4/
END:VEVENT
BEGIN:VEVENT
DTSTART;TZID=UTC:20220409T200000
DTEND;TZID=UTC:20220409T200000
DTSTAMP:20260419T170626
CREATED:20220318T010016Z
LAST-MODIFIED:20220325T124631Z
UID:933-1649534400-1649534400@www.thecounterfeitersband.com
SUMMARY:DEAL LAKE CLUB
DESCRIPTION:LOCH ARBOUR NJ
URL:https://www.thecounterfeitersband.com/shows/deal-lake-club/
END:VEVENT
BEGIN:VEVENT
DTSTART;TZID=UTC:20220415T210000
DTEND;TZID=UTC:20220415T210000
DTSTAMP:20260419T170626
CREATED:20220201T205809Z
LAST-MODIFIED:20220201T205809Z
UID:867-1650056400-1650056400@www.thecounterfeitersband.com
SUMMARY:MOORES TAVERN - FREEHOLD
DESCRIPTION:
URL:https://www.thecounterfeitersband.com/shows/moores-tavern-freehold-2/
END:VEVENT
BEGIN:VEVENT
DTSTART;TZID=UTC:20220416T200000
DTEND;TZID=UTC:20220416T200000
DTSTAMP:20260419T170626
CREATED:20220318T010509Z
LAST-MODIFIED:20220318T010509Z
UID:938-1650139200-1650139200@www.thecounterfeitersband.com
SUMMARY:RESORTS WORLD - 80s/90s NIGHT
DESCRIPTION:
URL:https://www.thecounterfeitersband.com/shows/resorts-world-80s-90s-night/
END:VEVENT
BEGIN:VEVENT
DTSTART;TZID=UTC:20220418T190000
DTEND;TZID=UTC:20220418T190000
DTSTAMP:20260419T170626
CREATED:20220318T010610Z
LAST-MODIFIED:20220318T010610Z
UID:942-1650308400-1650308400@www.thecounterfeitersband.com
SUMMARY:HARD ROCK - LOBBY BAR
DESCRIPTION:
URL:https://www.thecounterfeitersband.com/shows/hard-rock-lobby-bar-6/
END:VEVENT
BEGIN:VEVENT
DTSTART;TZID=UTC:20220422T170000
DTEND;TZID=UTC:20220422T210000
DTSTAMP:20260419T170626
CREATED:20220325T124658Z
LAST-MODIFIED:20220422T125810Z
UID:1012-1650646800-1650661200@www.thecounterfeitersband.com
SUMMARY:B2 Bistro - BAYVILLE
DESCRIPTION:
URL:https://www.thecounterfeitersband.com/shows/waters-edge-bayville/
END:VEVENT
BEGIN:VEVENT
DTSTART;TZID=UTC:20220423T080000
DTEND;TZID=UTC:20220423T170000
DTSTAMP:20260419T170626
CREATED:20220201T205849Z
LAST-MODIFIED:20220201T205849Z
UID:869-1650700800-1650733200@www.thecounterfeitersband.com
SUMMARY:WEDDING
DESCRIPTION:
URL:https://www.thecounterfeitersband.com/shows/wedding-8/
END:VEVENT
BEGIN:VEVENT
DTSTART;TZID=UTC:20220428T210000
DTEND;TZID=UTC:20220428T210000
DTSTAMP:20260419T170626
CREATED:20220318T010703Z
LAST-MODIFIED:20220318T010703Z
UID:944-1651179600-1651179600@www.thecounterfeitersband.com
SUMMARY:GYPSY BAR - BORGATA
DESCRIPTION:Acoustic Trio
URL:https://www.thecounterfeitersband.com/shows/gypsy-bar-borgata-5/
END:VEVENT
BEGIN:VEVENT
DTSTART;TZID=UTC:20220429T193000
DTEND;TZID=UTC:20220429T193000
DTSTAMP:20260419T170626
CREATED:20220325T124743Z
LAST-MODIFIED:20220325T124743Z
UID:1014-1651260600-1651260600@www.thecounterfeitersband.com
SUMMARY:PRIVATE EVENT
DESCRIPTION:
URL:https://www.thecounterfeitersband.com/shows/private-event-21/
END:VEVENT
END:VCALENDAR